View In:
ArcGIS JavaScript
ArcGIS Online Map Viewer
ArcGIS Earth
Service Description: Imagery/Moore_Cemetery_2023
Name: Imagery/Moore_Cemetery_2023
Description:
Single Fused Map Cache: true
Tile Info:
- Height: 1024
- Width: 1024
- DPI: 96
-
Levels of Detail: 9
- Format: MIXED
- Compression Quality: 75.0
- LERC Error: NaN
- Origin: X: 2105000.0
Y: 750000.0
- Spatial Reference: 2912
(2912)
LatestVCSWkid(0)
Storage Info:
- Storage Format: esriMapCacheStorageModeCompactV2
- Packet Size: 128
Extent:
XMin: 2116600.2929173545
YMin: 726108.2707198269
XMax: 2117156.800575915
YMax: 728634.3144006638
Spatial Reference: 2912
(2912)
LatestVCSWkid(0)
Initial Extent:
XMin: 2116600.2929173545
YMin: 726108.2707198269
XMax: 2117156.800575915
YMax: 728634.3144006638
Spatial Reference: 2912
(2912)
LatestVCSWkid(0)
Full Extent:
XMin: 2116600.2929173545
YMin: 726108.2707198269
XMax: 2117156.800575915
YMax: 728634.3144006638
Spatial Reference: 2912
(2912)
LatestVCSWkid(0)
Pixel Size X: 0.026682056794375734
Pixel Size Y: 0.026682056794373334
Band Count: 4
Pixel Type: U8
RasterFunction Infos: {"rasterFunctionInfos": [{
"name": "None",
"description": "",
"help": ""
}]}
Mensuration Capabilities: Basic
Inspection Capabilities:
Has Histograms: true
Has Colormap: false
Has Multi Dimensions : false
Rendering Rule:
Min Scale: 64000
Max Scale: 250
Min LOD: 0
Max LOD: 8
Copyright Text:
Service Data Type: esriImageServiceDataTypeGeneric
Min Values: 0, 0, 0, 0
Max Values: 255, 255, 255, 255
Mean Values: 131.45396803753, 127.28805157721, 115.01822190485, 244.06151432354
Standard Deviation Values: 37.674045639516, 36.471934807136, 35.337239000163, 51.666631222362
Object ID Field:
Fields:
None
Default Mosaic Method: Center
Allowed Mosaic Methods:
SortField:
SortValue: null
Mosaic Operator: First
Default Compression Quality: 75
Default Resampling Method: Bilinear
Max Record Count: null
Max Image Height: 4100
Max Image Width: 15000
Max Download Image Count: null
Max Mosaic Image Count: null
Allow Raster Function: true
Allow Copy: true
Allow Analysis: true
Allow Compute TiePoints: false
Supports Statistics: false
Supports Advanced Queries: false
Use StandardizedQueries: true
Raster Type Infos:
Name: Raster Dataset
Description: Supports all ArcGIS Raster Datasets
Help:
Has Raster Attribute Table: false
Edit Fields Info: null
Ownership Based AccessControl For Rasters: null
Child Resources:
Info
Histograms
Statistics
Key Properties
Legend
Raster Function Infos
Supported Operations:
Export Image
Identify
Measure
Compute Histograms
Compute Statistics Histograms
Get Samples
Compute Class Statistics
Query Boundary
Compute Pixel Location
Compute Angles
Validate
Project