{
 "currentVersion": 11.5,
 "serviceDescription": "Imagery/Moore_Cemetery_2023",
 "serviceItemId": "3676a673d9f440f084f57a1ffad18fdf",
 "name": "Imagery/Moore_Cemetery_2023",
 "description": "",
 "extent": {
  "xmin": 2116600.2929173545,
  "ymin": 726108.2707198269,
  "xmax": 2117156.800575915,
  "ymax": 728634.3144006638,
  "spatialReference": {
   "wkid": 2912,
   "latestWkid": 2912
  }
 },
 "initialExtent": {
  "xmin": 2116600.2929173545,
  "ymin": 726108.2707198269,
  "xmax": 2117156.800575915,
  "ymax": 728634.3144006638,
  "spatialReference": {
   "wkid": 2912,
   "latestWkid": 2912
  }
 },
 "fullExtent": {
  "xmin": 2116600.2929173545,
  "ymin": 726108.2707198269,
  "xmax": 2117156.800575915,
  "ymax": 728634.3144006638,
  "spatialReference": {
   "wkid": 2912,
   "latestWkid": 2912
  }
 },
 "sortableFields": "",
 "bandCount": 4,
 "pixelType": "U8",
 "minValues": [
  0,
  0,
  0,
  0
 ],
 "maxValues": [
  255,
  255,
  255,
  255
 ],
 "meanValues": [
  131.45396803753,
  127.28805157721,
  115.01822190485,
  244.06151432354
 ],
 "stdvValues": [
  37.674045639516,
  36.471934807136,
  35.337239000163,
  51.666631222362
 ],
 "serviceProperties": "Center<\/MosaicMethod>First<\/MosaicOperator>true<\/SortAscending><\/LockImageID><\/TileOrderField>0<\/TileOrderBase>0.000000<\/AvgImageSpacingX>0.000000<\/AvgImageSpacingY>0.0<\/ViewPointX>0.0<\/ViewPointY>0.0<\/ViewPointDefShiftX>0.0<\/ViewPointDefShiftY>None<\/CompressionMethod>75<\/CompressionQuality>0.010000<\/CompressionTolerance>Bilinear<\/SamplingMethod><\/ImageServiceProperties><\/ImageServer>",
 "allowedFields": "",
 "hasMultidimensions": false,
 "pixelSizeX": 0.026682056794375734,
 "pixelSizeY": 0.026682056794373334,
 "meanPixelSize": 0.008132707176339711,
 "datasetFormat": "TIFF",
 "uncompressedSize": 7898295616,
 "blockWidth": 256,
 "blockHeight": 256,
 "compressionType": "DEFLATE",
 "bandNames": [
  "Band_1",
  "Band_2",
  "Band_3",
  "Band_4"
 ],
 "allowCopy": true,
 "allowAnalysis": true,
 "itemAccess": false,
 "inspectionCapabilities": "",
 "minPixelSize": 0.21701388888888887,
 "maxPixelSize": 55.55555555555555,
 "copyrightText": "",
 "serviceDataType": "esriImageServiceDataTypeGeneric",
 "serviceSourceType": "esriImageServiceSourceTypeDataset",
 "objectIdField": "",
 "fields": [],
 "capabilities": "Image,Metadata,Mensuration",
 "defaultMosaicMethod": "Center",
 "allowedMosaicMethods": "",
 "sortField": "",
 "sortValue": null,
 "sortAscending": true,
 "mosaicOperator": "First",
 "defaultCompressionQuality": 75,
 "defaultResamplingMethod": "Bilinear",
 "maxImageHeight": 4100,
 "maxImageWidth": 15000,
 "singleFusedMapCache": true,
 "tileInfo": {
  "rows": 1024,
  "cols": 1024,
  "dpi": 96,
  "format": "MIXED",
  "compressionQuality": 75,
  "origin": {
   "x": 2105000,
   "y": 750000
  },
  "spatialReference": {
   "wkid": 2912,
   "latestWkid": 2912
  },
  "lods": [
   {
    "level": 0,
    "resolution": 55.55555555555555,
    "scale": 64000
   },
   {
    "level": 1,
    "resolution": 27.777777777777775,
    "scale": 32000
   },
   {
    "level": 2,
    "resolution": 13.888888888888888,
    "scale": 16000
   },
   {
    "level": 3,
    "resolution": 6.944444444444444,
    "scale": 8000
   },
   {
    "level": 4,
    "resolution": 3.472222222222222,
    "scale": 4000
   },
   {
    "level": 5,
    "resolution": 1.736111111111111,
    "scale": 2000
   },
   {
    "level": 6,
    "resolution": 0.8680555555555555,
    "scale": 1000
   },
   {
    "level": 7,
    "resolution": 0.43402777777777773,
    "scale": 500
   },
   {
    "level": 8,
    "resolution": 0.21701388888888887,
    "scale": 250
   }
  ]
 },
 "storageInfo": {
  "storageFormat": "esriMapCacheStorageModeCompactV2",
  "packetSize": 128
 },
 "cacheType": "Map",
 "allowRasterFunction": true,
 "rasterFunctionInfos": [
  {
   "name": "None",
   "description": "",
   "help": ""
  }
 ],
 "rasterTypeInfos": [
  {
   "name": "Raster Dataset",
   "description": "Supports all ArcGIS Raster Datasets",
   "help": ""
  }
 ],
 "mensurationCapabilities": "Basic",
 "hasHistograms": true,
 "hasColormap": false,
 "hasRasterAttributeTable": false,
 "minScale": 64000,
 "maxScale": 250,
 "minLOD": 0,
 "maxLOD": 8,
 "exportTilesAllowed": false,
 "supportsStatistics": false,
 "supportsAdvancedQueries": false,
 "editFieldsInfo": null,
 "ownershipBasedAccessControlForRasters": null,
 "allowComputeTiePoints": false,
 "useStandardizedQueries": true,
 "advancedQueryCapabilities": {
  "useStandardizedQueries": true,
  "supportsStatistics": false,
  "supportsOrderBy": false,
  "supportsDistinct": false,
  "supportsPagination": false
 },
 "spatialReference": {
  "wkid": 2912,
  "latestWkid": 2912
 }
}
